BEGIN:VCALENDAR
VERSION:2.0
PRODID:-//Neumann Portál - Neumann János Gimnázium, Technikum és Kollégium - - ECPv6.6.4.2//NONSGML v1.0//EN
CALSCALE:GREGORIAN
METHOD:PUBLISH
X-ORIGINAL-URL:https://nejanet.quentit.hu
X-WR-CALDESC:Events for Neumann Portál - Neumann János Gimnázium, Technikum és Kollégium -
REFRESH-INTERVAL;VALUE=DURATION:PT1H
X-Robots-Tag:noindex
X-PUBLISHED-TTL:PT1H
BEGIN:VTIMEZONE
TZID:Europe/Budapest
BEGIN:DAYLIGHT
TZOFFSETFROM:+0100
TZOFFSETTO:+0200
TZNAME:CEST
DTSTART:20230326T010000
END:DAYLIGHT
BEGIN:STANDARD
TZOFFSETFROM:+0200
TZOFFSETTO:+0100
TZNAME:CET
DTSTART:20231029T010000
END:STANDARD
END:VTIMEZONE
BEGIN:VEVENT
DTSTART;TZID=Europe/Budapest:20230623T080000
DTEND;TZID=Europe/Budapest:20230623T090000
DTSTAMP:20260422T230539
CREATED:20230809T133548Z
LAST-MODIFIED:20230809T133548Z
UID:6112-1687507200-1687510800@nejanet.quentit.hu
SUMMARY:Tanévzáró ünnepség
DESCRIPTION:
URL:https://nejanet.quentit.hu/esemeny/tanevzaro-unnepseg/
END:VEVENT
END:VCALENDAR